BEGIN:VCALENDAR
VERSION:2.0
PRODID:-//IJsselstein 2.0 - ECPv6.14.2//NONSGML v1.0//EN
CALSCALE:GREGORIAN
METHOD:PUBLISH
X-WR-CALNAME:IJsselstein 2.0
X-ORIGINAL-URL:https://www.ijsselstein20.nl
X-WR-CALDESC:Evenementen voor IJsselstein 2.0
REFRESH-INTERVAL;VALUE=DURATION:PT1H
X-Robots-Tag:noindex
X-PUBLISHED-TTL:PT1H
BEGIN:VTIMEZONE
TZID:Europe/Helsinki
BEGIN:DAYLIGHT
TZOFFSETFROM:+0200
TZOFFSETTO:+0300
TZNAME:EEST
DTSTART:20250330T010000
END:DAYLIGHT
BEGIN:STANDARD
TZOFFSETFROM:+0300
TZOFFSETTO:+0200
TZNAME:EET
DTSTART:20251026T010000
END:STANDARD
END:VTIMEZONE
BEGIN:VTIMEZONE
TZID:UTC
BEGIN:STANDARD
TZOFFSETFROM:+0000
TZOFFSETTO:+0000
TZNAME:UTC
DTSTART:20250101T000000
END:STANDARD
END:VTIMEZONE
BEGIN:VEVENT
DTSTART;VALUE=DATE:20251012
DTEND;VALUE=DATE:20251013
DTSTAMP:20260424T171422
CREATED:20250925T103350Z
LAST-MODIFIED:20250925T103708Z
UID:8819-1760227200-1760313599@www.ijsselstein20.nl
SUMMARY:Bokkentocht Lopikerwaard
DESCRIPTION:Stap zondag 12 oktober op de fiets of in de bus en ga heerlijke bockbiertjes proeven bij diverse cafés in de Lopikerwaard. \nDeelnemende cafés\nCafé De Stee in IJsselstein\nCaf’é De Punt in IJsselstein\nCafé De Roode Leeuw in Lopikerkapel\nIn’t Witte Paard in Cabauw\nCafé De Sjaak in Lopik\nCafé Plein in Benschop \nPraktische informatie\nStart: vanaf 12.00 uur\, vanaf elk café\nStempelkaart: verkrijgbaar bij de deelnemende cafés\nFietsroute: 32 km\nPendelbus rijdt ieder uur tot 20.30 uur langs de deelnemende cafés
URL:https://www.ijsselstein20.nl/evenement/bokkentocht-lopikerwaard/
ATTACH;FMTTYPE=image/png:https://www.ijsselstein20.nl/wp-content/uploads/2025/09/bokkentocht.png
END:VEVENT
BEGIN:VEVENT
DTSTART;TZID=UTC:20250921T103000
DTEND;TZID=UTC:20250921T150000
DTSTAMP:20260424T171422
CREATED:20250808T131159Z
LAST-MODIFIED:20250808T131159Z
UID:8079-1758450600-1758466800@www.ijsselstein20.nl
SUMMARY:Dag van de Techniek 2025
DESCRIPTION:Dit jaar is de Dag van de Techniek gepland op zaterdag 21 september van 10.30 tot 15.00 uur. \nDoor techniek kan je alles! Bij het uitvinden van alle dingen gebruiken we techniek. Dat geldt voor de spullen die je zelf hebt\, zoals je smartphone\, iPad en kleren. Maar bijvoorbeeld ook voor het maken van huizen\, stoplichten\, auto’s\, vliegtuigen en zwemparadijzen. Het bestaat allemaal omdat er mensen zijn die van techniek hun beroep hebben gemaakt. \nHoud je van technische uitdagingen en wil jij ontdekken of je later wilt werken in de wereld van techniek? Kom dan naar de Dag van de Techniek! Van het leggen van een prachtig straatje tot het bedienen van een minigraver. Alles is mogelijk tijdens deze dag vol met leuke uitdagingen! \nKom samen met je familie zien hoe leuk\, divers en succesvol een beroep in de technische branche is. Jouw toekomstige technische beroep in bedrijf tijdens deze doe-dag. Kom het beleven! \nWil je weten welke workshops en presentaties de bedrijven voor jou in petto hebben? Bekijk het programma op: Dag van de Techniek.
URL:https://www.ijsselstein20.nl/evenement/dag-van-de-techniek-2025/
LOCATION:Cals College IJsselstein\, Hoge Dijk 1\, IJsselstein\, Utrecht\, 3401 RD\, Netherlands
ATTACH;FMTTYPE=image/png:https://www.ijsselstein20.nl/wp-content/uploads/2025/08/dag-van-de-techniek.png
ORGANIZER;CN="Dag van de Techniek":MAILTO:info@dagvandetechniek.nl
END:VEVENT
BEGIN:VEVENT
DTSTART;VALUE=DATE:20250913
DTEND;VALUE=DATE:20250915
DTSTAMP:20260424T171422
CREATED:20250808T135306Z
LAST-MODIFIED:20250808T135306Z
UID:8103-1757721600-1757894399@www.ijsselstein20.nl
SUMMARY:Open Monumentendag 2025
DESCRIPTION:Open Monumentendag is het jaarlijkse evenement in september waarbij monumenten in heel Nederland gratis toegankelijk zijn voor iedereen. Het is dé kans om een plek te bezoeken waar je normaal niet zo snel komt\, of om mee te doen aan een eenmalige activiteit. We hebben alle activiteiten op deze dag (of in sommige gevallen het hele weekend) voor je verzameld. \nZaterdag 13 september 2025 \nOude Nicolaaskerk\n10.00 – 17.00 uur: kerk en toren open voor bezichtiging. De toegang is vrij en op eigen risico. Wel onder voorbehoud van onderhoudswerkzaamheden\n13.00 – 13.30 uur: concert Vocaal Mannen Ensemble QuArtz\n14.00\, 15.00 en 16.00 uur: orgelbespelingen door eigen organisten \nBasiliek\n11.00 – 16.00 uur: torenbeklimming met gids (kosten 5 euro per persoon\, kinderen 2\,50 euro voor onderhoud van de kerk)\n13.30 – 16.00 uur: rondleidingen met gids in de kerk (gratis) \nTip: bewonder ook de foto-expositie Ommedracht O.L.V. van Eiteren \nMuseum IJsselstein en Kasteeltoren\n13.00 – 17.00 uur: De Kasteeltoren is gratis toegankelijk\nMuseum IJsselstein is tijdens Open Monumentendag nog gesloten i.v.m. een verbouwing. \nKorenmolen De Windotter\n10.00 – 16.00 uur: de molenwinkel is open voor bezoek\, informatie over geschiedenis en architectuur van de molen en molen en verkoop van molenproducten.\n11.00\, 12.00\, 13.00\, 14.00 en 15.00 uur: demonstraties malen en rondleidingen\nBij mooi weer worden er buiten pannenkoeken gebakken. \nTip: bezoek de mini-expositie in de theekoepel over de molen(s) die IJsselstein heeft (gehad) en gericht op het thema Erfgoed & Architectuur. \nHistorisch Stadhuis\n11.00 – 17.00 uur: open voor bezichtiging en rondleiding. \nDe Waag\n10.30 – 16.00 uur: Bovenwaag geopend. Hier kun je een kijkje nemen in de beeldbank van de Historische Kring IJsselstein.\n11.00 – 16.30 uur: Waag open voor bezichtiging. Er is een waagmeester aanwezig om je meer te vertellen over de historische functie van de Waag. Kinderen kunnen worden gewogen op een antieke bascule. \nRondvaarten door stadsgrachten\n13.30 uur: Vestingvaart door Yselvaert van Molen tot Basiliek.\n14.30 uur: Vestingvaart door Yselvaert en Historische Kring IJsselstein met wandeling en bezoek aan de Oude Nicolaaskerk en de Waag. Start bij Basiliek.\nVooraf reserveren via rondvaartenijsselstein.nl \n  \n\nZondag 14 september 2024 \nMuseum IJsselstein en Kasteeltoren\n13.00 – 17.00 uur: De Kasteeltoren is gratis toegankelijk\nMuseum IJsselstein is tijdens Open Monumentendag nog gesloten i.v.m. een verbouwing. \nRondvaarten door stadsgrachten\n13.30 uur: Vestingvaart door Yselvaert van Molen tot Basiliek.\n14.30 uur: Vestingvaart door Yselvaert en Historische Kring IJsselstein met wandeling en bezoek aan de Waag. Start bij Basiliek. Vooraf reserveren via rondvaartenijsselstein.nl \nBasiliek\n(Dagelijks) geopend van 9.00 tot 16.00 uur \nMaak een rondje IJsselstein\nOp beide dagen zijn er doorlopend diverse audiotours voor volwassenen en kinderen beschikbaar\, zoals het ‘Rondje Monumenten’\, ‘Rondje Historisch IJsselstein’ of het ‘Rondje Instagrammen’ dat je langs alle mooie plekjes van IJsselstein leidt. Voor kinderen is er een speurtocht beschikbaar. Deze stadswandelingen zijn gratis te downloaden op elke smartphone via de Izi.travel app. \nNB wijzigingen in het programma voorbehouden.
URL:https://www.ijsselstein20.nl/evenement/open-monumentendag-2025/
LOCATION:Binnenstad IJsselstein\, Overtoom 1\, IJsselstein
ATTACH;FMTTYPE=image/png:https://www.ijsselstein20.nl/wp-content/uploads/2025/08/open-monumetendag.png
END:VEVENT
BEGIN:VEVENT
DTSTART;VALUE=DATE:20250905
DTEND;VALUE=DATE:20250907
DTSTAMP:20260424T171422
CREATED:20250808T114500Z
LAST-MODIFIED:20250808T115508Z
UID:8056-1757030400-1757203199@www.ijsselstein20.nl
SUMMARY:FouteZomerFeest 2025
DESCRIPTION:Het Foutezomerfeest is sinds 2008 hét jaarlijkse feestweekend in IJsselstein vol foute hits\, nationale toppers en zomerse gezelligheid. Op 5 en 6 september 2025 barst het weer los met artiesten als Mart Hoogkamer\, Samuel Welten en Danny Froger\, verspreid over twee knallende festivaltenten.
URL:https://www.ijsselstein20.nl/evenement/foutezomerfeest-2025/
LOCATION:Podiumterrein\, Podiumweg 1\, IJsselstein\, Netherlands
ATTACH;FMTTYPE=image/jpeg:https://www.ijsselstein20.nl/wp-content/uploads/2025/08/fzf.jpg
ORGANIZER;CN="Middenholland Evenementen":MAILTO:info@middenhollandevenementen.nl
END:VEVENT
BEGIN:VEVENT
DTSTART;TZID=UTC:20250830T144500
DTEND;TZID=UTC:20250830T223000
DTSTAMP:20260424T171422
CREATED:20250808T133910Z
LAST-MODIFIED:20250808T133910Z
UID:8090-1756565100-1756593000@www.ijsselstein20.nl
SUMMARY:Mevrouw Klein Sprokkelhorst presenteert: Parada Aqua Musica
DESCRIPTION:Laat je op zaterdag 30 augustus betoveren door Mevrouw Klein Sprokkelhorst bij Marnemoende! Op deze bijzondere locatie aan het water geniet je van een verrassende programmering\, uiteenlopende podia en een bruisende sfeer. Dompel jezelf onder in kunst\, muziek en theater – en ontdek hoe inspirerend cultuur kan zijn.
URL:https://www.ijsselstein20.nl/evenement/mevrouw-klein-sprokkelhorst-presenteert-parada-aqua-musica/
LOCATION:Marnemoende\, Noord IJsseldijk 107 B\, IJsselstein\, 3402 PG
ATTACH;FMTTYPE=image/png:https://www.ijsselstein20.nl/wp-content/uploads/2025/08/sprokkelhorst-parada-aqua-musica.png
ORGANIZER;CN="Stichting Mevrouw Klein Sprokkelhorst Presenteert":MAILTO:secretariaat@sprokkelhorstpresenteert.nl
END:VEVENT
BEGIN:VEVENT
DTSTART;TZID=UTC:20250829T090000
DTEND;TZID=UTC:20250829T123000
DTSTAMP:20260424T171422
CREATED:20250808T134509Z
LAST-MODIFIED:20250808T134643Z
UID:8095-1756458000-1756470600@www.ijsselstein20.nl
SUMMARY:Mini-huttenbouw
DESCRIPTION:Speeltuin Kloosterplantsoen organiseert op vrijdagochtend 29 augustus een mini-huttenbouw van 9.30 tot 12.30 uur. Op de laatste vrijdag van de zomervakantie kunnen kinderen samen met papa\, mama\, opa\, oma en vriendjes en vriendinnetjes een prachtig huttendorp van karton bouwen. \nDe mini-huttenbouw is een spektakel voor alle kinderen van 2 -7 jaar (tot groep 3)\, die nog (net) te jong zijn voor de reguliere IJVO. \nWat moet je meenemen?\nNeem zelf dozen\, doeken en een verfkwast mee. \nBij slecht weer gaat de mini-huttenbouw helaas niet door. \nMeer informatie vind je op de Facebookpagina van Minihuttenbouw.
URL:https://www.ijsselstein20.nl/evenement/mini-huttenbouw/
LOCATION:Kloosterplantsoen\, Anna van Burenpad 1\, IJsselstein\, 3401 XE\, Netherlands
ATTACH;FMTTYPE=image/png:https://www.ijsselstein20.nl/wp-content/uploads/2025/08/mini-huttenbouw.png
ORGANIZER;CN="Stichting Speeltuin Kloosterplantsoen":MAILTO:info@speeltuinkloosterplantsoen.nl
END:VEVENT
BEGIN:VEVENT
DTSTART;VALUE=DATE:20250825
DTEND;VALUE=DATE:20250830
DTSTAMP:20260424T171422
CREATED:20250808T115420Z
LAST-MODIFIED:20250808T115420Z
UID:8073-1756080000-1756511999@www.ijsselstein20.nl
SUMMARY:IJVO 2025: IJVO's Muziekfestival
DESCRIPTION:De IJVO is een kindervakantie week in IJsselstein tijdens de laatste week van de zomervakantie. Kinderen vanaf groep 3 tot en met groep 8 zijn welkom om allerlei leuke activiteiten te doen. Zo kunnen de kinderen hutten bouwen en deze ook schilderen. Er wordt elk jaar een mooi toneelstuk geschreven welke aansluit bij het thema\, de kinderen kunnen knutselen in de creatent en zelfs snoepjes en pannenkoeken halen in het kindercafé.
URL:https://www.ijsselstein20.nl/evenement/ijvo-2025-ijvos-muziekfestival/
LOCATION:IJVO Terrein\, Noord IJsseldijk 10\, IJsselstein\, 3402 PH\, Netherlands
ATTACH;FMTTYPE=image/png:https://www.ijsselstein20.nl/wp-content/uploads/2025/08/IJVO.png
ORGANIZER;CN="Stichting IJVO":MAILTO:secretaris@ijvo.nl
END:VEVENT
END:VCALENDAR