BEGIN:VCALENDAR
VERSION:2.0
PRODID:-//IJsselstein 2.0 - ECPv6.14.2//NONSGML v1.0//EN
CALSCALE:GREGORIAN
METHOD:PUBLISH
X-ORIGINAL-URL:https://www.ijsselstein20.nl
X-WR-CALDESC:Evenementen voor IJsselstein 2.0
REFRESH-INTERVAL;VALUE=DURATION:PT1H
X-Robots-Tag:noindex
X-PUBLISHED-TTL:PT1H
BEGIN:VTIMEZONE
TZID:Europe/Helsinki
BEGIN:DAYLIGHT
TZOFFSETFROM:+0200
TZOFFSETTO:+0300
TZNAME:EEST
DTSTART:20260329T010000
END:DAYLIGHT
BEGIN:STANDARD
TZOFFSETFROM:+0300
TZOFFSETTO:+0200
TZNAME:EET
DTSTART:20261025T010000
END:STANDARD
END:VTIMEZONE
BEGIN:VEVENT
DTSTART;TZID=Europe/Helsinki:20260523T160000
DTEND;TZID=Europe/Helsinki:20260523T233000
DTSTAMP:20260424T000219
CREATED:20251104T213125Z
LAST-MODIFIED:20251104T214038Z
UID:8913-1779552000-1779579000@www.ijsselstein20.nl
SUMMARY:Zomercarnaval 2026
DESCRIPTION:Editie 3 van ons IJssselsteinse Zomercarnaval\, uiteraard op deze editie weer lokale en landelijke muzikale helden!
URL:https://www.ijsselstein20.nl/evenement/zomercarnaval-2026/
LOCATION:Podiumterrein\, Podiumweg 1\, IJsselstein\, Netherlands
ATTACH;FMTTYPE=image/png:https://www.ijsselstein20.nl/wp-content/uploads/2025/11/zomercarnaval-2026.png
ORGANIZER;CN="Middenholland Evenementen":MAILTO:info@middenhollandevenementen.nl
END:VEVENT
BEGIN:VEVENT
DTSTART;VALUE=DATE:20260824
DTEND;VALUE=DATE:20260829
DTSTAMP:20260424T000219
CREATED:20251111T182615Z
LAST-MODIFIED:20251111T182749Z
UID:9590-1787529600-1787961599@www.ijsselstein20.nl
SUMMARY:IJVO 2026
DESCRIPTION:De IJVO is een kindervakantie week in IJsselstein tijdens de laatste week van de zomervakantie. Kinderen vanaf groep 3 tot en met groep 8 zijn welkom om allerlei leuke activiteiten te doen. Zo kunnen de kinderen hutten bouwen en deze ook schilderen. Er wordt elk jaar een mooi toneelstuk geschreven welke aansluit bij het thema\, de kinderen kunnen knutselen in de creatent en zelfs snoepjes en pannenkoeken halen in het kindercafé. \nMeer weten? Kijk op www.ijvo.nl
URL:https://www.ijsselstein20.nl/evenement/ijvo-2026/
LOCATION:IJVO Terrein\, Noord IJsseldijk 10\, IJsselstein\, 3402 PH\, Netherlands
ATTACH;FMTTYPE=image/jpeg:https://www.ijsselstein20.nl/wp-content/uploads/2025/11/ijvo-scaled-1.jpg
ORGANIZER;CN="Stichting IJVO":MAILTO:secretaris@ijvo.nl
END:VEVENT
BEGIN:VEVENT
DTSTART;VALUE=DATE:20260904
DTEND;VALUE=DATE:20260906
DTSTAMP:20260424T000219
CREATED:20251104T213410Z
LAST-MODIFIED:20251104T213410Z
UID:8916-1788480000-1788652799@www.ijsselstein20.nl
SUMMARY:Het Foutezomerfeest 2026
DESCRIPTION:Na 17 eerdere edities weet iedereen die ooit geweest is wat je kunt verwachten\, van Nederlandstalig tot lekkere House in 2 tenten.
URL:https://www.ijsselstein20.nl/evenement/het-foutezomerfeest-2026/
LOCATION:Podiumterrein\, Podiumweg 1\, IJsselstein\, Netherlands
ATTACH;FMTTYPE=image/png:https://www.ijsselstein20.nl/wp-content/uploads/2025/11/foutezomerfeest.png
ORGANIZER;CN="Middenholland Evenementen":MAILTO:info@middenhollandevenementen.nl
END:VEVENT
END:VCALENDAR