BEGIN:VCALENDAR
VERSION:2.0
PRODID:-//IJsselstein 2.0 - ECPv6.14.2//NONSGML v1.0//EN
CALSCALE:GREGORIAN
METHOD:PUBLISH
X-ORIGINAL-URL:https://www.ijsselstein20.nl
X-WR-CALDESC:Evenementen voor IJsselstein 2.0
REFRESH-INTERVAL;VALUE=DURATION:PT1H
X-Robots-Tag:noindex
X-PUBLISHED-TTL:PT1H
BEGIN:VTIMEZONE
TZID:Europe/Helsinki
BEGIN:DAYLIGHT
TZOFFSETFROM:+0200
TZOFFSETTO:+0300
TZNAME:EEST
DTSTART:20250330T010000
END:DAYLIGHT
BEGIN:STANDARD
TZOFFSETFROM:+0300
TZOFFSETTO:+0200
TZNAME:EET
DTSTART:20251026T010000
END:STANDARD
END:VTIMEZONE
BEGIN:VEVENT
DTSTART;VALUE=DATE:20251012
DTEND;VALUE=DATE:20251013
DTSTAMP:20260424T152910
CREATED:20250925T103350Z
LAST-MODIFIED:20250925T103708Z
UID:8819-1760227200-1760313599@www.ijsselstein20.nl
SUMMARY:Bokkentocht Lopikerwaard
DESCRIPTION:Stap zondag 12 oktober op de fiets of in de bus en ga heerlijke bockbiertjes proeven bij diverse cafés in de Lopikerwaard. \nDeelnemende cafés\nCafé De Stee in IJsselstein\nCaf’é De Punt in IJsselstein\nCafé De Roode Leeuw in Lopikerkapel\nIn’t Witte Paard in Cabauw\nCafé De Sjaak in Lopik\nCafé Plein in Benschop \nPraktische informatie\nStart: vanaf 12.00 uur\, vanaf elk café\nStempelkaart: verkrijgbaar bij de deelnemende cafés\nFietsroute: 32 km\nPendelbus rijdt ieder uur tot 20.30 uur langs de deelnemende cafés
URL:https://www.ijsselstein20.nl/evenement/bokkentocht-lopikerwaard/
ATTACH;FMTTYPE=image/png:https://www.ijsselstein20.nl/wp-content/uploads/2025/09/bokkentocht.png
END:VEVENT
END:VCALENDAR